BEGIN:VCALENDAR
VERSION:2.0
PRODID:-//Glonner Kirchernchor - ECPv6.15.20//NONSGML v1.0//EN
CALSCALE:GREGORIAN
METHOD:PUBLISH
X-WR-CALNAME:Glonner Kirchernchor
X-ORIGINAL-URL:https://www.kirchenchor-glonn.de
X-WR-CALDESC:Veranstaltungen für Glonner Kirchernchor
REFRESH-INTERVAL;VALUE=DURATION:PT1H
X-Robots-Tag:noindex
X-PUBLISHED-TTL:PT1H
BEGIN:VTIMEZONE
TZID:Europe/Berlin
BEGIN:DAYLIGHT
TZOFFSETFROM:+0100
TZOFFSETTO:+0200
TZNAME:CEST
DTSTART:20240331T010000
END:DAYLIGHT
BEGIN:STANDARD
TZOFFSETFROM:+0200
TZOFFSETTO:+0100
TZNAME:CET
DTSTART:20241027T010000
END:STANDARD
BEGIN:DAYLIGHT
TZOFFSETFROM:+0100
TZOFFSETTO:+0200
TZNAME:CEST
DTSTART:20250330T010000
END:DAYLIGHT
BEGIN:STANDARD
TZOFFSETFROM:+0200
TZOFFSETTO:+0100
TZNAME:CET
DTSTART:20251026T010000
END:STANDARD
BEGIN:DAYLIGHT
TZOFFSETFROM:+0100
TZOFFSETTO:+0200
TZNAME:CEST
DTSTART:20260329T010000
END:DAYLIGHT
BEGIN:STANDARD
TZOFFSETFROM:+0200
TZOFFSETTO:+0100
TZNAME:CET
DTSTART:20261025T010000
END:STANDARD
END:VTIMEZONE
BEGIN:VEVENT
DTSTART;TZID=Europe/Berlin:20251106T193000
DTEND;TZID=Europe/Berlin:20251106T210000
DTSTAMP:20260420T114154
CREATED:20250914T131214Z
LAST-MODIFIED:20250914T131403Z
UID:1484-1762457400-1762462800@www.kirchenchor-glonn.de
SUMMARY:Probe
DESCRIPTION:Gjeilo\, Lauridsen\, Chilcott u.a./Kempter
URL:https://www.kirchenchor-glonn.de/event/probe-9
LOCATION:Pfarrsaal\, Prof.-Lebsche-Str. 11\, Glonn\, 85625\, Deutschland
CATEGORIES:Chorprobe
END:VEVENT
BEGIN:VEVENT
DTSTART;TZID=Europe/Berlin:20251106T193000
DTEND;TZID=Europe/Berlin:20251106T210000
DTSTAMP:20260420T114154
CREATED:20250914T131214Z
LAST-MODIFIED:20250914T131403Z
UID:1484-1762457400-1762462800@www.kirchenchor-glonn.de
SUMMARY:Probe
DESCRIPTION:Gjeilo\, Lauridsen\, Chilcott u.a./Kempter
URL:https://www.kirchenchor-glonn.de/event/probe-9
LOCATION:Pfarrsaal\, Prof.-Lebsche-Str. 11\, Glonn\, 85625\, Deutschland
CATEGORIES:Chorprobe
END:VEVENT
BEGIN:VEVENT
DTSTART;TZID=Europe/Berlin:20251213T140000
DTEND;TZID=Europe/Berlin:20251213T160000
DTSTAMP:20260420T114154
CREATED:20250914T131617Z
LAST-MODIFIED:20250914T131617Z
UID:1487-1765634400-1765641600@www.kirchenchor-glonn.de
SUMMARY:Hauptprobe
DESCRIPTION:
URL:https://www.kirchenchor-glonn.de/event/hauptprobe-5
LOCATION:Pfarrkirche Glonn
CATEGORIES:Chorprobe
END:VEVENT
BEGIN:VEVENT
DTSTART;TZID=Europe/Berlin:20251214T160000
DTEND;TZID=Europe/Berlin:20251214T180000
DTSTAMP:20260420T114154
CREATED:20250914T131659Z
LAST-MODIFIED:20250914T133112Z
UID:1489-1765728000-1765735200@www.kirchenchor-glonn.de
SUMMARY:Generalprobe
DESCRIPTION:
URL:https://www.kirchenchor-glonn.de/event/generalprobe-16
LOCATION:Pfarrkirche Glonn
CATEGORIES:Chorprobe
END:VEVENT
BEGIN:VEVENT
DTSTART;TZID=Europe/Berlin:20251214T190000
DTEND;TZID=Europe/Berlin:20251214T210000
DTSTAMP:20260420T114154
CREATED:20250914T131800Z
LAST-MODIFIED:20251113T135203Z
UID:1491-1765738800-1765746000@www.kirchenchor-glonn.de
SUMMARY:Adventsingen
DESCRIPTION:Werke von Gjeilo\, Lauridsen\, Chilcott\, Nordquist u.a.
URL:https://www.kirchenchor-glonn.de/event/adventsingen-2
LOCATION:Pfarrkirche Glonn
CATEGORIES:Konzert
ATTACH;FMTTYPE=image/png:https://www.kirchenchor-glonn.de/wp-content/uploads/2025/11/25_12_Adventskonzert-2025_Plakat-A3.png
END:VEVENT
BEGIN:VEVENT
DTSTART;TZID=Europe/Berlin:20251225T090000
DTEND;TZID=Europe/Berlin:20251225T100000
DTSTAMP:20260420T114154
CREATED:20250914T132134Z
LAST-MODIFIED:20250914T132134Z
UID:1498-1766653200-1766656800@www.kirchenchor-glonn.de
SUMMARY:Einsingen/Anspielprobe
DESCRIPTION:
URL:https://www.kirchenchor-glonn.de/event/einsingen-anspielprobe-4
LOCATION:Pfarrkirche Glonn
CATEGORIES:Chorprobe
END:VEVENT
BEGIN:VEVENT
DTSTART;TZID=Europe/Berlin:20251225T100000
DTEND;TZID=Europe/Berlin:20251225T113000
DTSTAMP:20260420T114154
CREATED:20250914T132219Z
LAST-MODIFIED:20250914T132219Z
UID:1500-1766656800-1766662200@www.kirchenchor-glonn.de
SUMMARY:Weihnachtsgottesdienst
DESCRIPTION:Kempter\, Pastoralmesse
URL:https://www.kirchenchor-glonn.de/event/weihnachtsgottesdienst-2
LOCATION:Pfarrkirche Glonn
CATEGORIES:Festgottesdienst
END:VEVENT
END:VCALENDAR