BEGIN:VCALENDAR
VERSION:2.0
PRODID:-//Glonner Kirchernchor - ECPv6.15.20//NONSGML v1.0//EN
CALSCALE:GREGORIAN
METHOD:PUBLISH
X-WR-CALNAME:Glonner Kirchernchor
X-ORIGINAL-URL:https://www.kirchenchor-glonn.de
X-WR-CALDESC:Veranstaltungen für Glonner Kirchernchor
REFRESH-INTERVAL;VALUE=DURATION:PT1H
X-Robots-Tag:noindex
X-PUBLISHED-TTL:PT1H
BEGIN:VTIMEZONE
TZID:Europe/Berlin
BEGIN:DAYLIGHT
TZOFFSETFROM:+0100
TZOFFSETTO:+0200
TZNAME:CEST
DTSTART:20230326T010000
END:DAYLIGHT
BEGIN:STANDARD
TZOFFSETFROM:+0200
TZOFFSETTO:+0100
TZNAME:CET
DTSTART:20231029T010000
END:STANDARD
BEGIN:DAYLIGHT
TZOFFSETFROM:+0100
TZOFFSETTO:+0200
TZNAME:CEST
DTSTART:20240331T010000
END:DAYLIGHT
BEGIN:STANDARD
TZOFFSETFROM:+0200
TZOFFSETTO:+0100
TZNAME:CET
DTSTART:20241027T010000
END:STANDARD
BEGIN:DAYLIGHT
TZOFFSETFROM:+0100
TZOFFSETTO:+0200
TZNAME:CEST
DTSTART:20250330T010000
END:DAYLIGHT
BEGIN:STANDARD
TZOFFSETFROM:+0200
TZOFFSETTO:+0100
TZNAME:CET
DTSTART:20251026T010000
END:STANDARD
END:VTIMEZONE
BEGIN:VEVENT
DTSTART;TZID=Europe/Berlin:20241214T160000
DTEND;TZID=Europe/Berlin:20241214T180000
DTSTAMP:20260421T081034
CREATED:20241004T204952Z
LAST-MODIFIED:20241004T204952Z
UID:1378-1734192000-1734199200@www.kirchenchor-glonn.de
SUMMARY:Hauptprobe
DESCRIPTION:Alpenländische Chorsätze + Barocke Instrumentalmusi
URL:https://www.kirchenchor-glonn.de/event/hauptprobe-3
LOCATION:Pfarrkirche Glonn
CATEGORIES:Chorprobe
END:VEVENT
BEGIN:VEVENT
DTSTART;TZID=Europe/Berlin:20241215T190000
DTEND;TZID=Europe/Berlin:20241215T210000
DTSTAMP:20260421T081034
CREATED:20241004T205148Z
LAST-MODIFIED:20241117T105227Z
UID:1382-1734289200-1734296400@www.kirchenchor-glonn.de
SUMMARY:Bayrisch-Barockes Adventsingen
DESCRIPTION:Alpenländische Chorsätze + Barocke Instrumentalmusik
URL:https://www.kirchenchor-glonn.de/event/bayrisch-barockes-adventsingen
LOCATION:Pfarrkirche Glonn
CATEGORIES:Konzert
END:VEVENT
BEGIN:VEVENT
DTSTART;TZID=Europe/Berlin:20241225T100000
DTEND;TZID=Europe/Berlin:20241225T113000
DTSTAMP:20260421T081034
CREATED:20241004T205613Z
LAST-MODIFIED:20241117T105138Z
UID:1388-1735120800-1735126200@www.kirchenchor-glonn.de
SUMMARY:Weihnachtsgottesdienst
DESCRIPTION:Joseph Haydn\, Jugendmesse in F-Dur\nArthur Schnabel\, Transeamus
URL:https://www.kirchenchor-glonn.de/event/weihnachtsgottesdienst
LOCATION:Pfarrkirche Glonn
CATEGORIES:Festgottesdienst
END:VEVENT
END:VCALENDAR