BEGIN:VCALENDAR
VERSION:2.0
PRODID:-//Glonner Kirchernchor - ECPv6.15.20//NONSGML v1.0//EN
CALSCALE:GREGORIAN
METHOD:PUBLISH
X-WR-CALNAME:Glonner Kirchernchor
X-ORIGINAL-URL:https://www.kirchenchor-glonn.de
X-WR-CALDESC:Veranstaltungen für Glonner Kirchernchor
REFRESH-INTERVAL;VALUE=DURATION:PT1H
X-Robots-Tag:noindex
X-PUBLISHED-TTL:PT1H
BEGIN:VTIMEZONE
TZID:Europe/Berlin
BEGIN:DAYLIGHT
TZOFFSETFROM:+0100
TZOFFSETTO:+0200
TZNAME:CEST
DTSTART:20230326T010000
END:DAYLIGHT
BEGIN:STANDARD
TZOFFSETFROM:+0200
TZOFFSETTO:+0100
TZNAME:CET
DTSTART:20231029T010000
END:STANDARD
BEGIN:DAYLIGHT
TZOFFSETFROM:+0100
TZOFFSETTO:+0200
TZNAME:CEST
DTSTART:20240331T010000
END:DAYLIGHT
BEGIN:STANDARD
TZOFFSETFROM:+0200
TZOFFSETTO:+0100
TZNAME:CET
DTSTART:20241027T010000
END:STANDARD
BEGIN:DAYLIGHT
TZOFFSETFROM:+0100
TZOFFSETTO:+0200
TZNAME:CEST
DTSTART:20250330T010000
END:DAYLIGHT
BEGIN:STANDARD
TZOFFSETFROM:+0200
TZOFFSETTO:+0100
TZNAME:CET
DTSTART:20251026T010000
END:STANDARD
END:VTIMEZONE
BEGIN:VEVENT
DTSTART;TZID=Europe/Berlin:20241107T193000
DTEND;TZID=Europe/Berlin:20241107T210000
DTSTAMP:20260421T095254
CREATED:20241004T204517Z
LAST-MODIFIED:20241004T204654Z
UID:1374-1731007800-1731013200@www.kirchenchor-glonn.de
SUMMARY:Probe
DESCRIPTION:Haydn\, Messe F-Dur/Adventsingen
URL:https://www.kirchenchor-glonn.de/event/probe-5
CATEGORIES:Chorprobe
END:VEVENT
BEGIN:VEVENT
DTSTART;TZID=Europe/Berlin:20241107T193000
DTEND;TZID=Europe/Berlin:20241107T210000
DTSTAMP:20260421T095254
CREATED:20241004T204517Z
LAST-MODIFIED:20241004T204654Z
UID:1374-1731007800-1731013200@www.kirchenchor-glonn.de
SUMMARY:Probe
DESCRIPTION:Haydn\, Messe F-Dur/Adventsingen
URL:https://www.kirchenchor-glonn.de/event/probe-5
CATEGORIES:Chorprobe
END:VEVENT
BEGIN:VEVENT
DTSTART;TZID=Europe/Berlin:20241107T193000
DTEND;TZID=Europe/Berlin:20241107T210000
DTSTAMP:20260421T095254
CREATED:20241004T204517Z
LAST-MODIFIED:20241004T204654Z
UID:1374-1731007800-1731013200@www.kirchenchor-glonn.de
SUMMARY:Probe
DESCRIPTION:Haydn\, Messe F-Dur/Adventsingen
URL:https://www.kirchenchor-glonn.de/event/probe-5
CATEGORIES:Chorprobe
END:VEVENT
END:VCALENDAR