BEGIN:VCALENDAR
VERSION:2.0
PRODID:-//Glonner Kirchernchor - ECPv6.15.20//NONSGML v1.0//EN
CALSCALE:GREGORIAN
METHOD:PUBLISH
X-ORIGINAL-URL:https://www.kirchenchor-glonn.de
X-WR-CALDESC:Veranstaltungen für Glonner Kirchernchor
REFRESH-INTERVAL;VALUE=DURATION:PT1H
X-Robots-Tag:noindex
X-PUBLISHED-TTL:PT1H
BEGIN:VTIMEZONE
TZID:Europe/Berlin
BEGIN:DAYLIGHT
TZOFFSETFROM:+0100
TZOFFSETTO:+0200
TZNAME:CEST
DTSTART:20240331T010000
END:DAYLIGHT
BEGIN:STANDARD
TZOFFSETFROM:+0200
TZOFFSETTO:+0100
TZNAME:CET
DTSTART:20241027T010000
END:STANDARD
BEGIN:DAYLIGHT
TZOFFSETFROM:+0100
TZOFFSETTO:+0200
TZNAME:CEST
DTSTART:20250330T010000
END:DAYLIGHT
BEGIN:STANDARD
TZOFFSETFROM:+0200
TZOFFSETTO:+0100
TZNAME:CET
DTSTART:20251026T010000
END:STANDARD
BEGIN:DAYLIGHT
TZOFFSETFROM:+0100
TZOFFSETTO:+0200
TZNAME:CEST
DTSTART:20260329T010000
END:DAYLIGHT
BEGIN:STANDARD
TZOFFSETFROM:+0200
TZOFFSETTO:+0100
TZNAME:CET
DTSTART:20261025T010000
END:STANDARD
BEGIN:DAYLIGHT
TZOFFSETFROM:+0100
TZOFFSETTO:+0200
TZNAME:CEST
DTSTART:20270328T010000
END:DAYLIGHT
BEGIN:STANDARD
TZOFFSETFROM:+0200
TZOFFSETTO:+0100
TZNAME:CET
DTSTART:20271031T010000
END:STANDARD
END:VTIMEZONE
BEGIN:VEVENT
DTSTART;TZID=Europe/Berlin:20260405T100000
DTEND;TZID=Europe/Berlin:20260405T113000
DTSTAMP:20260420T081328
CREATED:20230122T153953Z
LAST-MODIFIED:20251228T123258Z
UID:1159-1775383200-1775388600@www.kirchenchor-glonn.de
SUMMARY:Festgottesdienst Ostern
DESCRIPTION:Michael Haydn\, Missa brevis D-Dur (Sopran\, Chor\, Vc\, Kb\, Orgel)
URL:https://www.kirchenchor-glonn.de/event/festgottesdienst-patrozinium
LOCATION:Pfarrkirche Glonn
CATEGORIES:Festgottesdienst
END:VEVENT
BEGIN:VEVENT
DTSTART;TZID=Europe/Berlin:20260405T090000
DTEND;TZID=Europe/Berlin:20260405T100000
DTSTAMP:20260420T081328
CREATED:20250914T130122Z
LAST-MODIFIED:20251228T121414Z
UID:1471-1775379600-1775383200@www.kirchenchor-glonn.de
SUMMARY:Einsingen/Anspielprobe
DESCRIPTION:M. Haydn\, Missa brevis
URL:https://www.kirchenchor-glonn.de/event/einsingen-anspielprobe-3
LOCATION:Pfarrkirche Glonn
CATEGORIES:Chorprobe
END:VEVENT
BEGIN:VEVENT
DTSTART;TZID=Europe/Berlin:20260331T193000
DTEND;TZID=Europe/Berlin:20260331T210000
DTSTAMP:20260420T081328
CREATED:20250914T132046Z
LAST-MODIFIED:20251228T121212Z
UID:1496-1774985400-1774990800@www.kirchenchor-glonn.de
SUMMARY:Generalprobe
DESCRIPTION:M. Haydn\, Missa brevis
URL:https://www.kirchenchor-glonn.de/event/generalprobe-17
LOCATION:Pfarrkirche Glonn
CATEGORIES:Chorprobe
END:VEVENT
BEGIN:VEVENT
DTSTART;TZID=Europe/Berlin:20260319T193000
DTEND;TZID=Europe/Berlin:20260319T210000
DTSTAMP:20260420T081328
CREATED:20251228T122032Z
LAST-MODIFIED:20251228T122115Z
UID:1545-1773948600-1773954000@www.kirchenchor-glonn.de
SUMMARY:Probe
DESCRIPTION:
URL:https://www.kirchenchor-glonn.de/event/probe-5-2-2
CATEGORIES:Chorprobe
END:VEVENT
BEGIN:VEVENT
DTSTART;TZID=Europe/Berlin:20260319T193000
DTEND;TZID=Europe/Berlin:20260319T210000
DTSTAMP:20260420T081328
CREATED:20251228T122032Z
LAST-MODIFIED:20251228T122115Z
UID:1545-1773948600-1773954000@www.kirchenchor-glonn.de
SUMMARY:Probe
DESCRIPTION:
URL:https://www.kirchenchor-glonn.de/event/probe-5-2-2
CATEGORIES:Chorprobe
END:VEVENT
BEGIN:VEVENT
DTSTART;TZID=Europe/Berlin:20260108T193000
DTEND;TZID=Europe/Berlin:20260108T210000
DTSTAMP:20260420T081328
CREATED:20250914T131859Z
LAST-MODIFIED:20251228T121852Z
UID:1493-1767900600-1767906000@www.kirchenchor-glonn.de
SUMMARY:Probe
DESCRIPTION:Bruckner\, Haydn\, Mayr\, …
URL:https://www.kirchenchor-glonn.de/event/probe-10
LOCATION:Pfarrsaal\, Prof.-Lebsche-Str. 11\, Glonn\, 85625\, Deutschland
CATEGORIES:Chorprobe
END:VEVENT
BEGIN:VEVENT
DTSTART;TZID=Europe/Berlin:20260108T193000
DTEND;TZID=Europe/Berlin:20260108T210000
DTSTAMP:20260420T081328
CREATED:20250914T131859Z
LAST-MODIFIED:20251228T121852Z
UID:1493-1767900600-1767906000@www.kirchenchor-glonn.de
SUMMARY:Probe
DESCRIPTION:Bruckner\, Haydn\, Mayr\, …
URL:https://www.kirchenchor-glonn.de/event/probe-10
LOCATION:Pfarrsaal\, Prof.-Lebsche-Str. 11\, Glonn\, 85625\, Deutschland
CATEGORIES:Chorprobe
END:VEVENT
BEGIN:VEVENT
DTSTART;TZID=Europe/Berlin:20260108T193000
DTEND;TZID=Europe/Berlin:20260108T210000
DTSTAMP:20260420T081328
CREATED:20250914T131859Z
LAST-MODIFIED:20251228T121852Z
UID:1493-1767900600-1767906000@www.kirchenchor-glonn.de
SUMMARY:Probe
DESCRIPTION:Bruckner\, Haydn\, Mayr\, …
URL:https://www.kirchenchor-glonn.de/event/probe-10
LOCATION:Pfarrsaal\, Prof.-Lebsche-Str. 11\, Glonn\, 85625\, Deutschland
CATEGORIES:Chorprobe
END:VEVENT
BEGIN:VEVENT
DTSTART;TZID=Europe/Berlin:20260108T193000
DTEND;TZID=Europe/Berlin:20260108T210000
DTSTAMP:20260420T081328
CREATED:20250914T131859Z
LAST-MODIFIED:20251228T121852Z
UID:1493-1767900600-1767906000@www.kirchenchor-glonn.de
SUMMARY:Probe
DESCRIPTION:Bruckner\, Haydn\, Mayr\, …
URL:https://www.kirchenchor-glonn.de/event/probe-10
LOCATION:Pfarrsaal\, Prof.-Lebsche-Str. 11\, Glonn\, 85625\, Deutschland
CATEGORIES:Chorprobe
END:VEVENT
BEGIN:VEVENT
DTSTART;TZID=Europe/Berlin:20260108T193000
DTEND;TZID=Europe/Berlin:20260108T210000
DTSTAMP:20260420T081328
CREATED:20250914T131859Z
LAST-MODIFIED:20251228T121852Z
UID:1493-1767900600-1767906000@www.kirchenchor-glonn.de
SUMMARY:Probe
DESCRIPTION:Bruckner\, Haydn\, Mayr\, …
URL:https://www.kirchenchor-glonn.de/event/probe-10
LOCATION:Pfarrsaal\, Prof.-Lebsche-Str. 11\, Glonn\, 85625\, Deutschland
CATEGORIES:Chorprobe
END:VEVENT
BEGIN:VEVENT
DTSTART;TZID=Europe/Berlin:20251225T100000
DTEND;TZID=Europe/Berlin:20251225T113000
DTSTAMP:20260420T081328
CREATED:20250914T132219Z
LAST-MODIFIED:20250914T132219Z
UID:1500-1766656800-1766662200@www.kirchenchor-glonn.de
SUMMARY:Weihnachtsgottesdienst
DESCRIPTION:Kempter\, Pastoralmesse
URL:https://www.kirchenchor-glonn.de/event/weihnachtsgottesdienst-2
LOCATION:Pfarrkirche Glonn
CATEGORIES:Festgottesdienst
END:VEVENT
BEGIN:VEVENT
DTSTART;TZID=Europe/Berlin:20251225T090000
DTEND;TZID=Europe/Berlin:20251225T100000
DTSTAMP:20260420T081328
CREATED:20250914T132134Z
LAST-MODIFIED:20250914T132134Z
UID:1498-1766653200-1766656800@www.kirchenchor-glonn.de
SUMMARY:Einsingen/Anspielprobe
DESCRIPTION:
URL:https://www.kirchenchor-glonn.de/event/einsingen-anspielprobe-4
LOCATION:Pfarrkirche Glonn
CATEGORIES:Chorprobe
END:VEVENT
BEGIN:VEVENT
DTSTART;TZID=Europe/Berlin:20251214T190000
DTEND;TZID=Europe/Berlin:20251214T210000
DTSTAMP:20260420T081328
CREATED:20250914T131800Z
LAST-MODIFIED:20251113T135203Z
UID:1491-1765738800-1765746000@www.kirchenchor-glonn.de
SUMMARY:Adventsingen
DESCRIPTION:Werke von Gjeilo\, Lauridsen\, Chilcott\, Nordquist u.a.
URL:https://www.kirchenchor-glonn.de/event/adventsingen-2
LOCATION:Pfarrkirche Glonn
CATEGORIES:Konzert
ATTACH;FMTTYPE=image/png:https://www.kirchenchor-glonn.de/wp-content/uploads/2025/11/25_12_Adventskonzert-2025_Plakat-A3.png
END:VEVENT
BEGIN:VEVENT
DTSTART;TZID=Europe/Berlin:20251214T160000
DTEND;TZID=Europe/Berlin:20251214T180000
DTSTAMP:20260420T081328
CREATED:20250914T131659Z
LAST-MODIFIED:20250914T133112Z
UID:1489-1765728000-1765735200@www.kirchenchor-glonn.de
SUMMARY:Generalprobe
DESCRIPTION:
URL:https://www.kirchenchor-glonn.de/event/generalprobe-16
LOCATION:Pfarrkirche Glonn
CATEGORIES:Chorprobe
END:VEVENT
BEGIN:VEVENT
DTSTART;TZID=Europe/Berlin:20251213T140000
DTEND;TZID=Europe/Berlin:20251213T160000
DTSTAMP:20260420T081328
CREATED:20250914T131617Z
LAST-MODIFIED:20250914T131617Z
UID:1487-1765634400-1765641600@www.kirchenchor-glonn.de
SUMMARY:Hauptprobe
DESCRIPTION:
URL:https://www.kirchenchor-glonn.de/event/hauptprobe-5
LOCATION:Pfarrkirche Glonn
CATEGORIES:Chorprobe
END:VEVENT
BEGIN:VEVENT
DTSTART;TZID=Europe/Berlin:20251106T193000
DTEND;TZID=Europe/Berlin:20251106T210000
DTSTAMP:20260420T081328
CREATED:20250914T131214Z
LAST-MODIFIED:20250914T131403Z
UID:1484-1762457400-1762462800@www.kirchenchor-glonn.de
SUMMARY:Probe
DESCRIPTION:Gjeilo\, Lauridsen\, Chilcott u.a./Kempter
URL:https://www.kirchenchor-glonn.de/event/probe-9
LOCATION:Pfarrsaal\, Prof.-Lebsche-Str. 11\, Glonn\, 85625\, Deutschland
CATEGORIES:Chorprobe
END:VEVENT
BEGIN:VEVENT
DTSTART;TZID=Europe/Berlin:20251106T193000
DTEND;TZID=Europe/Berlin:20251106T210000
DTSTAMP:20260420T081328
CREATED:20250914T131214Z
LAST-MODIFIED:20250914T131403Z
UID:1484-1762457400-1762462800@www.kirchenchor-glonn.de
SUMMARY:Probe
DESCRIPTION:Gjeilo\, Lauridsen\, Chilcott u.a./Kempter
URL:https://www.kirchenchor-glonn.de/event/probe-9
LOCATION:Pfarrsaal\, Prof.-Lebsche-Str. 11\, Glonn\, 85625\, Deutschland
CATEGORIES:Chorprobe
END:VEVENT
BEGIN:VEVENT
DTSTART;TZID=Europe/Berlin:20251106T193000
DTEND;TZID=Europe/Berlin:20251106T210000
DTSTAMP:20260420T081328
CREATED:20250914T131214Z
LAST-MODIFIED:20250914T131403Z
UID:1484-1762457400-1762462800@www.kirchenchor-glonn.de
SUMMARY:Probe
DESCRIPTION:Gjeilo\, Lauridsen\, Chilcott u.a./Kempter
URL:https://www.kirchenchor-glonn.de/event/probe-9
LOCATION:Pfarrsaal\, Prof.-Lebsche-Str. 11\, Glonn\, 85625\, Deutschland
CATEGORIES:Chorprobe
END:VEVENT
BEGIN:VEVENT
DTSTART;TZID=Europe/Berlin:20251106T193000
DTEND;TZID=Europe/Berlin:20251106T210000
DTSTAMP:20260420T081328
CREATED:20250914T131214Z
LAST-MODIFIED:20250914T131403Z
UID:1484-1762457400-1762462800@www.kirchenchor-glonn.de
SUMMARY:Probe
DESCRIPTION:Gjeilo\, Lauridsen\, Chilcott u.a./Kempter
URL:https://www.kirchenchor-glonn.de/event/probe-9
LOCATION:Pfarrsaal\, Prof.-Lebsche-Str. 11\, Glonn\, 85625\, Deutschland
CATEGORIES:Chorprobe
END:VEVENT
BEGIN:VEVENT
DTSTART;TZID=Europe/Berlin:20251106T193000
DTEND;TZID=Europe/Berlin:20251106T210000
DTSTAMP:20260420T081328
CREATED:20250914T131214Z
LAST-MODIFIED:20250914T131403Z
UID:1484-1762457400-1762462800@www.kirchenchor-glonn.de
SUMMARY:Probe
DESCRIPTION:Gjeilo\, Lauridsen\, Chilcott u.a./Kempter
URL:https://www.kirchenchor-glonn.de/event/probe-9
LOCATION:Pfarrsaal\, Prof.-Lebsche-Str. 11\, Glonn\, 85625\, Deutschland
CATEGORIES:Chorprobe
END:VEVENT
BEGIN:VEVENT
DTSTART;TZID=Europe/Berlin:20251106T193000
DTEND;TZID=Europe/Berlin:20251106T210000
DTSTAMP:20260420T081328
CREATED:20250914T131214Z
LAST-MODIFIED:20250914T131403Z
UID:1484-1762457400-1762462800@www.kirchenchor-glonn.de
SUMMARY:Probe
DESCRIPTION:Gjeilo\, Lauridsen\, Chilcott u.a./Kempter
URL:https://www.kirchenchor-glonn.de/event/probe-9
LOCATION:Pfarrsaal\, Prof.-Lebsche-Str. 11\, Glonn\, 85625\, Deutschland
CATEGORIES:Chorprobe
END:VEVENT
BEGIN:VEVENT
DTSTART;TZID=Europe/Berlin:20251026T190000
DTEND;TZID=Europe/Berlin:20251026T210000
DTSTAMP:20260420T081328
CREATED:20241004T203953Z
LAST-MODIFIED:20250928T082919Z
UID:1370-1761505200-1761512400@www.kirchenchor-glonn.de
SUMMARY:Kirchenkonzert
DESCRIPTION:Von Golgatha ins Paradies!\nMit den drei Werken des diesjährigen Festlichen Kirchenkonzertes in der Glonner Pfarrkirche spannt das Programm gedanklich einen Bogen von der am Kreuze trauernden „Pieta“\, der Mutter Gottes\, hin zum frommen Wunsch: mögen doch alle Dahin-geschiedenen\, von Engeln geleitet\, ins Paradies geführt werden\, im bekanntesten Werk von Gabriel Fauré\, seinem Requiem. \nDie Brücke von Joseph Gabriel Rheinberger’s „Stabat Mater“ zu Fauré bildet die Hymne „Hör mein Bitten“ von Felix Mendels-sohn-Bartholdy mit einem Text aus dem 55. Psalm. Alle drei Werke sind Schöpfungen des 19. Jahrhunderts\, der Ro-mantik. Ihre Besetzung ist im Original z. T. mit großem Orchester. \nViele Arrangeure haben allerdings immer wieder diese wunderbaren Werke durch Neubearbeitungen auch kleineren Verhältnissen zugänglich gemacht; das Stabat Mater hören Sie in unserem Konzert in der Originalfassung für Chor\, Streicher und Orgel\, Mendelssohn’s Hymne Hör mein Bitten in einer Version für Sopran\, Chor\, Streicher und Orgel und das Hauptwerk des Abends\, Faurés Requiem in einer Besetzung mit Sopran\, Bariton\, Chor\, Streicher und Orgel. \nEs singen Christina Thurnhuber (Sopran)\, Mathieu Lanniel (Bariton)\, der Glonner Kirchenchor; es spielen Konrad Liebscher (Orgel) und ein Streichorchester mit Musikerinnen und Musikern aus dem Landkreis Ebersberg. Die Leitung hat Thomas Pfeiffer. \nWir freuen uns über Ihren Besuch! \nSichern Sie sich Ihre Karten im Vorverkauf bei Obermaier Moden in Glonn; Restkarten gibt es an der Abendkasse.
URL:https://www.kirchenchor-glonn.de/event/faure-requiem
LOCATION:Pfarrkirche Glonn
CATEGORIES:Konzert
ATTACH;FMTTYPE=image/jpeg:https://www.kirchenchor-glonn.de/wp-content/uploads/2025/09/IMG_1021.jpg
END:VEVENT
BEGIN:VEVENT
DTSTART;TZID=Europe/Berlin:20251026T160000
DTEND;TZID=Europe/Berlin:20251026T180000
DTSTAMP:20260420T081328
CREATED:20250914T131045Z
LAST-MODIFIED:20250914T133032Z
UID:1482-1761494400-1761501600@www.kirchenchor-glonn.de
SUMMARY:Generalprobe
DESCRIPTION:Rheinberger\, Mendelssohn\, Fauré
URL:https://www.kirchenchor-glonn.de/event/generalprobe-15
LOCATION:Pfarrkirche Glonn
CATEGORIES:Chorprobe
END:VEVENT
BEGIN:VEVENT
DTSTART;TZID=Europe/Berlin:20251025T140000
DTEND;TZID=Europe/Berlin:20251025T160000
DTSTAMP:20260420T081328
CREATED:20250914T130935Z
LAST-MODIFIED:20250914T132932Z
UID:1480-1761400800-1761408000@www.kirchenchor-glonn.de
SUMMARY:Hauptprobe
DESCRIPTION:Rheinberger\, Mendelssohn\, Fauré
URL:https://www.kirchenchor-glonn.de/event/hauptprobe-4
CATEGORIES:Chorprobe
END:VEVENT
BEGIN:VEVENT
DTSTART;TZID=Europe/Berlin:20251023T193000
DTEND;TZID=Europe/Berlin:20251023T210000
DTSTAMP:20260420T081328
CREATED:20250914T130815Z
LAST-MODIFIED:20250914T130815Z
UID:1478-1761247800-1761253200@www.kirchenchor-glonn.de
SUMMARY:Probe + Gäste
DESCRIPTION:Rheinberger\, Mendelssohn\, Fauré
URL:https://www.kirchenchor-glonn.de/event/probe-gaeste-5
LOCATION:Pfarrsaal\, Prof.-Lebsche-Str. 11\, Glonn\, 85625\, Deutschland
CATEGORIES:Chorprobe
END:VEVENT
BEGIN:VEVENT
DTSTART;TZID=Europe/Berlin:20251019T100000
DTEND;TZID=Europe/Berlin:20251019T113000
DTSTAMP:20260420T081328
CREATED:20250914T130223Z
LAST-MODIFIED:20250914T130649Z
UID:1473-1760868000-1760873400@www.kirchenchor-glonn.de
SUMMARY:Kirchweih
DESCRIPTION:Neue geistliche Lieder in Arrangements mit Flöte\, Klarinette und Orgel/Klavier\nmit Soli\, Chor und Gemeinde
URL:https://www.kirchenchor-glonn.de/event/kirchweih-2
LOCATION:Pfarrkirche Glonn
CATEGORIES:Festgottesdienst
END:VEVENT
BEGIN:VEVENT
DTSTART;TZID=Europe/Berlin:20251016T193000
DTEND;TZID=Europe/Berlin:20251016T210000
DTSTAMP:20260420T081328
CREATED:20250914T130011Z
LAST-MODIFIED:20250914T130011Z
UID:1469-1760643000-1760648400@www.kirchenchor-glonn.de
SUMMARY:Generalprobe
DESCRIPTION:Neue geistliche Lieder
URL:https://www.kirchenchor-glonn.de/event/generalprobe-14
LOCATION:Pfarrkirche Glonn
CATEGORIES:Chorprobe
END:VEVENT
BEGIN:VEVENT
DTSTART;TZID=Europe/Berlin:20250925T193000
DTEND;TZID=Europe/Berlin:20250925T210000
DTSTAMP:20260420T081328
CREATED:20250914T125601Z
LAST-MODIFIED:20250914T132805Z
UID:1464-1758828600-1758834000@www.kirchenchor-glonn.de
SUMMARY:Probe
DESCRIPTION:Rheinberger\, Mendelssohn\, Fauré
URL:https://www.kirchenchor-glonn.de/event/probe-8
LOCATION:Pfarrsaal\, Prof.-Lebsche-Str. 11\, Glonn\, 85625\, Deutschland
CATEGORIES:Chorprobe
END:VEVENT
BEGIN:VEVENT
DTSTART;TZID=Europe/Berlin:20250925T193000
DTEND;TZID=Europe/Berlin:20250925T210000
DTSTAMP:20260420T081328
CREATED:20250914T125601Z
LAST-MODIFIED:20250914T132805Z
UID:1464-1758828600-1758834000@www.kirchenchor-glonn.de
SUMMARY:Probe
DESCRIPTION:Rheinberger\, Mendelssohn\, Fauré
URL:https://www.kirchenchor-glonn.de/event/probe-8
LOCATION:Pfarrsaal\, Prof.-Lebsche-Str. 11\, Glonn\, 85625\, Deutschland
CATEGORIES:Chorprobe
END:VEVENT
BEGIN:VEVENT
DTSTART;TZID=Europe/Berlin:20250925T193000
DTEND;TZID=Europe/Berlin:20250925T210000
DTSTAMP:20260420T081328
CREATED:20250914T125601Z
LAST-MODIFIED:20250914T132805Z
UID:1464-1758828600-1758834000@www.kirchenchor-glonn.de
SUMMARY:Probe
DESCRIPTION:Rheinberger\, Mendelssohn\, Fauré
URL:https://www.kirchenchor-glonn.de/event/probe-8
LOCATION:Pfarrsaal\, Prof.-Lebsche-Str. 11\, Glonn\, 85625\, Deutschland
CATEGORIES:Chorprobe
END:VEVENT
END:VCALENDAR