BEGIN:VCALENDAR
VERSION:2.0
PRODID:-//Glonner Kirchernchor - ECPv6.15.20//NONSGML v1.0//EN
CALSCALE:GREGORIAN
METHOD:PUBLISH
X-ORIGINAL-URL:https://www.kirchenchor-glonn.de
X-WR-CALDESC:Veranstaltungen für Glonner Kirchernchor
REFRESH-INTERVAL;VALUE=DURATION:PT1H
X-Robots-Tag:noindex
X-PUBLISHED-TTL:PT1H
BEGIN:VTIMEZONE
TZID:Europe/Berlin
BEGIN:DAYLIGHT
TZOFFSETFROM:+0100
TZOFFSETTO:+0200
TZNAME:CEST
DTSTART:20250330T010000
END:DAYLIGHT
BEGIN:STANDARD
TZOFFSETFROM:+0200
TZOFFSETTO:+0100
TZNAME:CET
DTSTART:20251026T010000
END:STANDARD
BEGIN:DAYLIGHT
TZOFFSETFROM:+0100
TZOFFSETTO:+0200
TZNAME:CEST
DTSTART:20260329T010000
END:DAYLIGHT
BEGIN:STANDARD
TZOFFSETFROM:+0200
TZOFFSETTO:+0100
TZNAME:CET
DTSTART:20261025T010000
END:STANDARD
BEGIN:DAYLIGHT
TZOFFSETFROM:+0100
TZOFFSETTO:+0200
TZNAME:CEST
DTSTART:20270328T010000
END:DAYLIGHT
BEGIN:STANDARD
TZOFFSETFROM:+0200
TZOFFSETTO:+0100
TZNAME:CET
DTSTART:20271031T010000
END:STANDARD
END:VTIMEZONE
BEGIN:VEVENT
DTSTART;TZID=Europe/Berlin:20260510T090000
DTEND;TZID=Europe/Berlin:20260510T100000
DTSTAMP:20260420T081457
CREATED:20241004T203127Z
LAST-MODIFIED:20251228T123901Z
UID:1362-1778403600-1778407200@www.kirchenchor-glonn.de
SUMMARY:Einsingen und Probe
DESCRIPTION:Neue geistliche Lieder
URL:https://www.kirchenchor-glonn.de/event/einsingen-und-probe
LOCATION:Pfarrkirche Glonn
CATEGORIES:Chorprobe
END:VEVENT
BEGIN:VEVENT
DTSTART;TZID=Europe/Berlin:20260510T100000
DTEND;TZID=Europe/Berlin:20260510T113000
DTSTAMP:20260420T081457
CREATED:20230122T152109Z
LAST-MODIFIED:20251228T124152Z
UID:1120-1778407200-1778412600@www.kirchenchor-glonn.de
SUMMARY:Erstkommunion
DESCRIPTION:Neue geistliche Lieder
URL:https://www.kirchenchor-glonn.de/event/erstkommunion-2
LOCATION:Pfarrkirche Glonn
CATEGORIES:Festgottesdienst
END:VEVENT
END:VCALENDAR