BEGIN:VCALENDAR
VERSION:2.0
PRODID:-//Glonner Kirchernchor - ECPv6.15.20//NONSGML v1.0//EN
CALSCALE:GREGORIAN
METHOD:PUBLISH
X-WR-CALNAME:Glonner Kirchernchor
X-ORIGINAL-URL:https://www.kirchenchor-glonn.de
X-WR-CALDESC:Veranstaltungen für Glonner Kirchernchor
REFRESH-INTERVAL;VALUE=DURATION:PT1H
X-Robots-Tag:noindex
X-PUBLISHED-TTL:PT1H
BEGIN:VTIMEZONE
TZID:Europe/Berlin
BEGIN:DAYLIGHT
TZOFFSETFROM:+0100
TZOFFSETTO:+0200
TZNAME:CEST
DTSTART:20240331T010000
END:DAYLIGHT
BEGIN:STANDARD
TZOFFSETFROM:+0200
TZOFFSETTO:+0100
TZNAME:CET
DTSTART:20241027T010000
END:STANDARD
BEGIN:DAYLIGHT
TZOFFSETFROM:+0100
TZOFFSETTO:+0200
TZNAME:CEST
DTSTART:20250330T010000
END:DAYLIGHT
BEGIN:STANDARD
TZOFFSETFROM:+0200
TZOFFSETTO:+0100
TZNAME:CET
DTSTART:20251026T010000
END:STANDARD
BEGIN:DAYLIGHT
TZOFFSETFROM:+0100
TZOFFSETTO:+0200
TZNAME:CEST
DTSTART:20260329T010000
END:DAYLIGHT
BEGIN:STANDARD
TZOFFSETFROM:+0200
TZOFFSETTO:+0100
TZNAME:CET
DTSTART:20261025T010000
END:STANDARD
END:VTIMEZONE
BEGIN:VEVENT
DTSTART;TZID=Europe/Berlin:20250619T083000
DTEND;TZID=Europe/Berlin:20250619T090000
DTSTAMP:20260420T232656
CREATED:20230122T160611Z
LAST-MODIFIED:20250112T103824Z
UID:1191-1750321800-1750323600@www.kirchenchor-glonn.de
SUMMARY:Frohnleichnam
DESCRIPTION:Stoiber\, Messe in G-Dur
URL:https://www.kirchenchor-glonn.de/event/frohnleichnam-2
LOCATION:Pfarrkirche Glonn
CATEGORIES:Festgottesdienst
END:VEVENT
BEGIN:VEVENT
DTSTART;TZID=Europe/Berlin:20250619T083000
DTEND;TZID=Europe/Berlin:20250619T100000
DTSTAMP:20260420T232656
CREATED:20220525T195614Z
LAST-MODIFIED:20250112T103705Z
UID:985-1750321800-1750327200@www.kirchenchor-glonn.de
SUMMARY:Einsingen
DESCRIPTION:Einsingen/Probe
URL:https://www.kirchenchor-glonn.de/event/einsingen-probe-3
LOCATION:Pfarrkirche Glonn
CATEGORIES:Chorprobe
END:VEVENT
END:VCALENDAR