BEGIN:VCALENDAR
VERSION:2.0
PRODID:-//Glonner Kirchernchor - ECPv6.15.20//NONSGML v1.0//EN
CALSCALE:GREGORIAN
METHOD:PUBLISH
X-ORIGINAL-URL:https://www.kirchenchor-glonn.de
X-WR-CALDESC:Veranstaltungen für Glonner Kirchernchor
REFRESH-INTERVAL;VALUE=DURATION:PT1H
X-Robots-Tag:noindex
X-PUBLISHED-TTL:PT1H
BEGIN:VTIMEZONE
TZID:Europe/Berlin
BEGIN:DAYLIGHT
TZOFFSETFROM:+0100
TZOFFSETTO:+0200
TZNAME:CEST
DTSTART:20250330T010000
END:DAYLIGHT
BEGIN:STANDARD
TZOFFSETFROM:+0200
TZOFFSETTO:+0100
TZNAME:CET
DTSTART:20251026T010000
END:STANDARD
BEGIN:DAYLIGHT
TZOFFSETFROM:+0100
TZOFFSETTO:+0200
TZNAME:CEST
DTSTART:20260329T010000
END:DAYLIGHT
BEGIN:STANDARD
TZOFFSETFROM:+0200
TZOFFSETTO:+0100
TZNAME:CET
DTSTART:20261025T010000
END:STANDARD
BEGIN:DAYLIGHT
TZOFFSETFROM:+0100
TZOFFSETTO:+0200
TZNAME:CEST
DTSTART:20270328T010000
END:DAYLIGHT
BEGIN:STANDARD
TZOFFSETFROM:+0200
TZOFFSETTO:+0100
TZNAME:CET
DTSTART:20271031T010000
END:STANDARD
END:VTIMEZONE
BEGIN:VEVENT
DTSTART;TZID=Europe/Berlin:20260423T193000
DTEND;TZID=Europe/Berlin:20260423T210000
DTSTAMP:20260420T094903
CREATED:20241004T210103Z
LAST-MODIFIED:20251228T122646Z
UID:1390-1776972600-1776978000@www.kirchenchor-glonn.de
SUMMARY:Generalprobe
DESCRIPTION:M. Haydn\, Missa brevis
URL:https://www.kirchenchor-glonn.de/event/generalprobe-13
LOCATION:Kirche Zinneberg\, Zinneberg 1\, Glonn\, 85625\, Germany
CATEGORIES:Chorprobe
END:VEVENT
BEGIN:VEVENT
DTSTART;TZID=Europe/Berlin:20260426T084500
DTEND;TZID=Europe/Berlin:20260426T100000
DTSTAMP:20260420T094903
CREATED:20230122T153707Z
LAST-MODIFIED:20251228T123351Z
UID:1156-1777193100-1777197600@www.kirchenchor-glonn.de
SUMMARY:Gottesdienst (Guter Hirte Sonntag)
DESCRIPTION:Michael Haydn\, Missa brevis D-Dur (Sopran\, Chor\, Vc\, Kb\, Orgel)\nProbe\, Beginn 8:45 Uhr !!
URL:https://www.kirchenchor-glonn.de/event/einsingen-3
LOCATION:Kirche Zinneberg\, Zinneberg 1\, Glonn\, 85625\, Germany
CATEGORIES:Festgottesdienst
END:VEVENT
BEGIN:VEVENT
DTSTART;TZID=Europe/Berlin:20260430T193000
DTEND;TZID=Europe/Berlin:20260430T210000
DTSTAMP:20260420T094903
CREATED:20251228T123550Z
LAST-MODIFIED:20251228T124020Z
UID:1553-1777577400-1777582800@www.kirchenchor-glonn.de
SUMMARY:Probe
DESCRIPTION:
URL:https://www.kirchenchor-glonn.de/event/probe-5-2-3
CATEGORIES:Chorprobe
END:VEVENT
END:VCALENDAR